BEGIN:VCALENDAR
VERSION:2.0
PRODID:-//jEvents 2.0 for Joomla//EN
CALSCALE:GREGORIAN
METHOD:PUBLISH
BEGIN:VTIMEZONE
TZID:Europe/Berlin
BEGIN:STANDARD
DTSTART:20231029T020000
RDATE:20240331T030000
TZOFFSETFROM:+0200
TZOFFSETTO:+0100
TZNAME:Europe/Berlin CET
END:STANDARD
BEGIN:STANDARD
DTSTART:20241027T020000
RDATE:20250330T030000
TZOFFSETFROM:+0200
TZOFFSETTO:+0100
TZNAME:Europe/Berlin CET
END:STANDARD
BEGIN:STANDARD
DTSTART:20251026T020000
RDATE:20260329T030000
TZOFFSETFROM:+0200
TZOFFSETTO:+0100
TZNAME:Europe/Berlin CET
END:STANDARD
BEGIN:STANDARD
DTSTART:20261025T020000
RDATE:20270328T030000
TZOFFSETFROM:+0200
TZOFFSETTO:+0100
TZNAME:Europe/Berlin CET
END:STANDARD
BEGIN:DAYLIGHT
DTSTART:20230707T000000
RDATE:20231029T020000
TZOFFSETFROM:+0100
TZOFFSETTO:+0200
TZNAME:Europe/Berlin CEST
END:DAYLIGHT
BEGIN:DAYLIGHT
DTSTART:20240331T030000
RDATE:20241027T020000
TZOFFSETFROM:+0100
TZOFFSETTO:+0200
TZNAME:Europe/Berlin CEST
END:DAYLIGHT
BEGIN:DAYLIGHT
DTSTART:20250330T030000
RDATE:20251026T020000
TZOFFSETFROM:+0100
TZOFFSETTO:+0200
TZNAME:Europe/Berlin CEST
END:DAYLIGHT
BEGIN:DAYLIGHT
DTSTART:20260329T030000
RDATE:20261025T020000
TZOFFSETFROM:+0100
TZOFFSETTO:+0200
TZNAME:Europe/Berlin CEST
END:DAYLIGHT
END:VTIMEZONE
BEGIN:VEVENT
UID:39f53cdd268a68c2d91fb206d0075065
CATEGORIES:FW-Verein
CREATED:20240603T171501
SUMMARY:Festumzug 150 Jahre FF Gosberg
URL;VALUE=URI:https://www.ffw-leutenbach.de/index.php/termine/icalrepeat.detail/2024/07/0
 7/435/-/festumzug-150-jahre-ff-gosberg?tmpl=component
DESCRIPTION:<p> </p><p>Die FFW Gosberg feiert 150 jähriges Gründungsfest.</p> <a href="
 https://www.ffw-leutenbach.de/index.php/termine/icalrepeat.detail/2024/07/0
 7/435/-/festumzug-150-jahre-ff-gosberg?tmpl=component">Dieser Event wurde i
 mportiert von: https://www.ffw-leutenbach.de/index.php/termine/icalrepeat.d
 etail/2024/07/07/435/-/festumzug-150-jahre-ff-gosberg?tmpl=component</a>DTSTAMP:20260422T194020
DTSTART;TZID=Europe/Berlin;VALUE=DATE:20240707
DTEND;TZID=Europe/Berlin;VALUE=DATE:20240708
SEQUENCE:0
TRANSP:OPAQUE
END:VEVENT
END:VCALENDAR