BEGIN:VCALENDAR
VERSION:2.0
PRODID:-//jEvents 2.0 for Joomla//EN
CALSCALE:GREGORIAN
METHOD:PUBLISH
BEGIN:VTIMEZONE
TZID:Europe/Berlin
BEGIN:STANDARD
DTSTART:20240112T170000
RDATE:20240331T030000
TZOFFSETFROM:+0200
TZOFFSETTO:+0100
TZNAME:Europe/Berlin CET
END:STANDARD
BEGIN:STANDARD
DTSTART:20241027T020000
RDATE:20250330T030000
TZOFFSETFROM:+0200
TZOFFSETTO:+0100
TZNAME:Europe/Berlin CET
END:STANDARD
BEGIN:STANDARD
DTSTART:20251026T020000
RDATE:20260329T030000
TZOFFSETFROM:+0200
TZOFFSETTO:+0100
TZNAME:Europe/Berlin CET
END:STANDARD
BEGIN:STANDARD
DTSTART:20261025T020000
RDATE:20270328T030000
TZOFFSETFROM:+0200
TZOFFSETTO:+0100
TZNAME:Europe/Berlin CET
END:STANDARD
BEGIN:DAYLIGHT
DTSTART:20240331T030000
RDATE:20241027T020000
TZOFFSETFROM:+0100
TZOFFSETTO:+0200
TZNAME:Europe/Berlin CEST
END:DAYLIGHT
BEGIN:DAYLIGHT
DTSTART:20250330T030000
RDATE:20251026T020000
TZOFFSETFROM:+0100
TZOFFSETTO:+0200
TZNAME:Europe/Berlin CEST
END:DAYLIGHT
BEGIN:DAYLIGHT
DTSTART:20260329T030000
RDATE:20261025T020000
TZOFFSETFROM:+0100
TZOFFSETTO:+0200
TZNAME:Europe/Berlin CEST
END:DAYLIGHT
END:VTIMEZONE
BEGIN:VEVENT
UID:e2f6d84078aa958ab2eb56108c711842
CATEGORIES:Veranstaltungen
CREATED:20241226T144521
SUMMARY:Jahreshauptversammlung 2025
URL;VALUE=URI:https://www.ffw-leutenbach.de/index.php/termine/icalrepeat.detail/2025/01/1
 2/438/-/jahreshauptversammlung-2025?tmpl=component
DESCRIPTION:Am Sonntag, den 12.1.2025 findet um 17.00 Uhr im Sportheim in Dietzhof\n di
 e Jahreshauptversammlung 2025 statt.\n \n \n Tagesordnung :\n \n \n Passive
 r Teil\n 1. Begrüßung\n 2. Totengedenken\n 3. Verlesung des Protokolls\n 4.
  Bericht des Vorstandes\n 5. Bericht des Kassiers\n 6. Bericht der Kassenpr
 üfer und Entlastung der Vorstandschaft\n 7. Fahnenträger\n 8. Ehrungen\n 9.
  Wahl der Vorstandschaft\n 10. Festbesuche\n 11. Wünsche und Anträge\n Kurz
 e Pause\n \n \n Aktiver Teil\n 1. Grußwort des Bürgermeisters\n 2. Bericht 
 des Jugendwartes\n 3. Bericht des Kommandanten\n 4. Grußworte der Führungsd
 ienstgrade\n 5. Wünsche und Anträge\n \n \n Es ergeht hierzu eine herzliche
  Einladung an alle Mitglieder, Freunde\n und Förderer der Feuerwehr.\n \n D
 ie Jahreshauptversammlung ist für die Aktiven eine Dienstversammlung,\n das
  Erscheinen in Uniform ist Pflicht!\n \n \n gez. 1.Vorstand Christian Seitz
 \n gez. 1. Bürgermeister Florian Kraft\n \n \n Dieser Event wurde importier
 t von: https://www.ffw-leutenbach.de/index.php/termine/icalrepeat.detail/20
 25/01/12/438/-/jahreshauptversammlung-2025?tmpl=component (https://www.ffw-
 leutenbach.de/index.php/termine/icalrepeat.detail/2025/01/12/438/-/jahresha
 uptversammlung-2025?tmpl=component)
X-ALT-DESC;FMTTYPE=text/html:<p>Am Sonntag, den 12.1.2025 findet um 17.00 Uhr im Sportheim in Dietzhof<b
 r /> die Jahreshauptversammlung 2025 statt.<br /> <br /> <br /> Tagesordnun
 g :<br /> <br /> <br /> Passiver Teil<br /> 1. Begrüßung<br /> 2. Totengede
 nken<br /> 3. Verlesung des Protokolls<br /> 4. Bericht des Vorstandes<br /
 > 5. Bericht des Kassiers<br /> 6. Bericht der Kassenprüfer und Entlastung 
 der Vorstandschaft<br /> 7. Fahnenträger<br /> 8. Ehrungen<br /> 9. Wahl de
 r Vorstandschaft<br /> 10. Festbesuche<br /> 11. Wünsche und Anträge<br /> 
 Kurze Pause<br /> <br /> <br /> Aktiver Teil<br /> 1. Grußwort des Bürgerme
 isters<br /> 2. Bericht des Jugendwartes<br /> 3. Bericht des Kommandanten<
 br /> 4. Grußworte der Führungsdienstgrade<br /> 5. Wünsche und Anträge<br 
 /> <br /> <br /> Es ergeht hierzu eine herzliche Einladung an alle Mitglied
 er, Freunde<br /> und Förderer der Feuerwehr.<br /> <br /> Die Jahreshauptv
 ersammlung ist für die Aktiven eine Dienstversammlung,<br /> das Erscheinen
  in Uniform ist Pflicht!<br /> <br /> <br /> gez. 1.Vorstand Christian Seit
 z<br /> gez. 1. Bürgermeister Florian Kraft<br /> <br /> </p> <a href="http
 s://www.ffw-leutenbach.de/index.php/termine/icalrepeat.detail/2025/01/12/43
 8/-/jahreshauptversammlung-2025?tmpl=component">Dieser Event wurde importie
 rt von: https://www.ffw-leutenbach.de/index.php/termine/icalrepeat.detail/2
 025/01/12/438/-/jahreshauptversammlung-2025?tmpl=component</a>DTSTAMP:20260426T020820
DTSTART;TZID=Europe/Berlin:20250112T170000
SEQUENCE:0
TRANSP:OPAQUE
END:VEVENT
END:VCALENDAR