BEGIN:VCALENDAR
VERSION:2.0
PRODID:-//jEvents 2.0 for Joomla//EN
CALSCALE:GREGORIAN
METHOD:PUBLISH
BEGIN:VTIMEZONE
TZID:Europe/Berlin
BEGIN:STANDARD
DTSTART:20240126T133000
RDATE:20240331T030000
TZOFFSETFROM:+0200
TZOFFSETTO:+0100
TZNAME:Europe/Berlin CET
END:STANDARD
BEGIN:STANDARD
DTSTART:20241027T020000
RDATE:20250330T030000
TZOFFSETFROM:+0200
TZOFFSETTO:+0100
TZNAME:Europe/Berlin CET
END:STANDARD
BEGIN:STANDARD
DTSTART:20251026T020000
RDATE:20260329T030000
TZOFFSETFROM:+0200
TZOFFSETTO:+0100
TZNAME:Europe/Berlin CET
END:STANDARD
BEGIN:STANDARD
DTSTART:20261025T020000
RDATE:20270328T030000
TZOFFSETFROM:+0200
TZOFFSETTO:+0100
TZNAME:Europe/Berlin CET
END:STANDARD
BEGIN:DAYLIGHT
DTSTART:20240331T030000
RDATE:20241027T020000
TZOFFSETFROM:+0100
TZOFFSETTO:+0200
TZNAME:Europe/Berlin CEST
END:DAYLIGHT
BEGIN:DAYLIGHT
DTSTART:20250330T030000
RDATE:20251026T020000
TZOFFSETFROM:+0100
TZOFFSETTO:+0200
TZNAME:Europe/Berlin CEST
END:DAYLIGHT
BEGIN:DAYLIGHT
DTSTART:20260329T030000
RDATE:20261025T020000
TZOFFSETFROM:+0100
TZOFFSETTO:+0200
TZNAME:Europe/Berlin CEST
END:DAYLIGHT
END:VTIMEZONE
BEGIN:VEVENT
UID:b7065849c5f5f5a3dbfc1e84873b8382
CATEGORIES:Veranstaltungen
CREATED:20250118T133450
SUMMARY:Winterwanderung 2025
URL;VALUE=URI:https://www.ffw-leutenbach.de/index.php/termine/icalrepeat.detail/2025/01/2
 6/505/-/winterwanderung-2025?tmpl=component
DESCRIPTION:<p>Wir laden euch zur jährlichen Winterwanderung ein.</p><p>Treffpunkt ist 
 um 13:00 Uhr am Pfarrheim.</p><p>Wir wandern zusammen mit dem FC Concordia 
 Leutenbach voraussichtlich nach Oberehrenbach.</p><p> </p><p>Wir wünschen e
 in paar frohe Stunden.</p><p> </p><p>Die Vorstandschaft</p> <a href="https:
 //www.ffw-leutenbach.de/index.php/termine/icalrepeat.detail/2025/01/26/505/
 -/winterwanderung-2025?tmpl=component">Dieser Event wurde importiert von: h
 ttps://www.ffw-leutenbach.de/index.php/termine/icalrepeat.detail/2025/01/26
 /505/-/winterwanderung-2025?tmpl=component</a>DTSTAMP:20260426T033853
DTSTART;TZID=Europe/Berlin:20250126T133000
DTEND;TZID=Europe/Berlin:20250126T183000
SEQUENCE:0
TRANSP:OPAQUE
END:VEVENT
END:VCALENDAR