BEGIN:VCALENDAR
VERSION:2.0
PRODID:-//jEvents 2.0 for Joomla//EN
CALSCALE:GREGORIAN
METHOD:PUBLISH
BEGIN:VTIMEZONE
TZID:Europe/Berlin
BEGIN:STANDARD
DTSTART:20240316T190000
RDATE:20240331T030000
TZOFFSETFROM:+0200
TZOFFSETTO:+0100
TZNAME:Europe/Berlin CET
END:STANDARD
BEGIN:STANDARD
DTSTART:20241027T020000
RDATE:20250330T030000
TZOFFSETFROM:+0200
TZOFFSETTO:+0100
TZNAME:Europe/Berlin CET
END:STANDARD
BEGIN:STANDARD
DTSTART:20251026T020000
RDATE:20260329T030000
TZOFFSETFROM:+0200
TZOFFSETTO:+0100
TZNAME:Europe/Berlin CET
END:STANDARD
BEGIN:STANDARD
DTSTART:20261025T020000
RDATE:20270328T030000
TZOFFSETFROM:+0200
TZOFFSETTO:+0100
TZNAME:Europe/Berlin CET
END:STANDARD
BEGIN:DAYLIGHT
DTSTART:20240331T030000
RDATE:20241027T020000
TZOFFSETFROM:+0100
TZOFFSETTO:+0200
TZNAME:Europe/Berlin CEST
END:DAYLIGHT
BEGIN:DAYLIGHT
DTSTART:20250330T030000
RDATE:20251026T020000
TZOFFSETFROM:+0100
TZOFFSETTO:+0200
TZNAME:Europe/Berlin CEST
END:DAYLIGHT
BEGIN:DAYLIGHT
DTSTART:20260329T030000
RDATE:20261025T020000
TZOFFSETFROM:+0100
TZOFFSETTO:+0200
TZNAME:Europe/Berlin CEST
END:DAYLIGHT
END:VTIMEZONE
BEGIN:VEVENT
UID:6fcpk3v8futmsu9f4e4uhhdfa4@google.com
CATEGORIES:Gruppe4
CREATED:20250112T141813
SUMMARY:Übung Sprechfunkbetrieb
URL;VALUE=URI:https://www.ffw-leutenbach.de/index.php/termine/jahreskalender/icalrepeat.d
 etail/2025/03/17/448/-/uebung-sprechfunkbetrieb?tmpl=component
DESCRIPTION: Dieser Event wurde importiert von: https://www.ffw-leutenbach.de/index.php
 /termine/jahreskalender/icalrepeat.detail/2025/03/17/448/-/uebung-sprechfun
 kbetrieb?tmpl=component (https://www.ffw-leutenbach.de/index.php/termine/ja
 hreskalender/icalrepeat.detail/2025/03/17/448/-/uebung-sprechfunkbetrieb?tm
 pl=component)
X-ALT-DESC;FMTTYPE=text/html: <a href="https://www.ffw-leutenbach.de/index.php/termine/jahreskalender/ic
 alrepeat.detail/2025/03/17/448/-/uebung-sprechfunkbetrieb?tmpl=component">D
 ieser Event wurde importiert von: https://www.ffw-leutenbach.de/index.php/t
 ermine/jahreskalender/icalrepeat.detail/2025/03/17/448/-/uebung-sprechfunkb
 etrieb?tmpl=component</a>DTSTAMP:20260420T184944
DTSTART;TZID=Europe/Berlin:20250317T190000
DTEND;TZID=Europe/Berlin:20250317T210000
SEQUENCE:1
TRANSP:OPAQUE
END:VEVENT
END:VCALENDAR